{
 "currentVersion": 10.91,
 "serviceDescription": "ImageServices/CentralParkRasterDataset3",
 "name": "ImageServices/CentralParkRasterDataset3",
 "description": "",
 "extent": {
  "xmin": 275075,
  "ymin": 2180863,
  "xmax": 278648.75,
  "ymax": 2184390,
  "spatialReference": {
   "wkid": 2244,
   "latestWkid": 2965
  }
 },
 "initialExtent": {
  "xmin": 275075,
  "ymin": 2180863,
  "xmax": 278648.75,
  "ymax": 2184390,
  "spatialReference": {
   "wkid": 2244,
   "latestWkid": 2965
  }
 },
 "fullExtent": {
  "xmin": 275075,
  "ymin": 2180863,
  "xmax": 278648.75,
  "ymax": 2184390,
  "spatialReference": {
   "wkid": 2244,
   "latestWkid": 2965
  }
 },
 "pixelSizeX": 0.25,
 "pixelSizeY": 0.25,
 "bandCount": 3,
 "pixelType": "U8",
 "minPixelSize": 0,
 "maxPixelSize": 0,
 "copyrightText": "",
 "serviceDataType": "esriImageServiceDataTypeRGB",
 "minValues": [
  0,
  0,
  0
 ],
 "maxValues": [
  255,
  255,
  255
 ],
 "meanValues": [
  122.89609745159834,
  117.53925921782823,
  91.66228241974443
 ],
 "stdvValues": [
  42.55153708089313,
  39.4994891048497,
  41.63516730314107
 ],
 "objectIdField": "",
 "fields": [],
 "capabilities": "Mensuration,Image,Metadata",
 "defaultMosaicMethod": "Center",
 "allowedMosaicMethods": "",
 "sortField": "",
 "sortValue": null,
 "sortAscending": true,
 "mosaicOperator": "First",
 "defaultCompressionQuality": 75,
 "defaultResamplingMethod": "Bilinear",
 "maxImageHeight": 4100,
 "maxImageWidth": 15000,
 "allowRasterFunction": true,
 "rasterFunctionInfos": [
  {
   "name": "None",
   "description": "",
   "help": ""
  }
 ],
 "rasterTypeInfos": [
  {
   "name": "Raster Dataset",
   "description": "Supports all ArcGIS Raster Datasets",
   "help": ""
  }
 ],
 "mensurationCapabilities": "Basic",
 "hasHistograms": true,
 "hasColormap": false,
 "hasRasterAttributeTable": false,
 "minScale": 0,
 "maxScale": 0,
 "exportTilesAllowed": false,
 "hasMultidimensions": false,
 "supportsStatistics": false,
 "supportsAdvancedQueries": false,
 "editFieldsInfo": null,
 "ownershipBasedAccessControlForRasters": null,
 "allowComputeTiePoints": false,
 "useStandardizedQueries": true,
 "advancedQueryCapabilities": {
  "useStandardizedQueries": true,
  "supportsStatistics": false,
  "supportsOrderBy": false,
  "supportsDistinct": false,
  "supportsPagination": false
 },
 "spatialReference": {
  "wkid": 2244,
  "latestWkid": 2965
 }
}
