View In:
ArcGIS JavaScript
ArcGIS Online Map Viewer
ArcGIS Earth
ArcMap
View Footprint In:
ArcGIS Online Map Viewer
Service Description: ImageServices/buffalo_ReProjectRaster2
Name: ImageServices/buffalo_ReProjectRaster2
Description:
Single Fused Map Cache: false
Extent:
XMin: -9557828.03707675
YMin: 5047856.980493956
XMax: -9557103.221227119
YMax: 5048575.166930329
Spatial Reference: 102100
(3857)
Initial Extent:
XMin: -9557828.03707675
YMin: 5047856.980493956
XMax: -9557103.221227119
YMax: 5048575.166930329
Spatial Reference: 102100
(3857)
Full Extent:
XMin: -9557828.03707675
YMin: 5047856.980493956
XMax: -9557103.221227119
YMax: 5048575.166930329
Spatial Reference: 102100
(3857)
Pixel Size X: 0.07620015240033902
Pixel Size Y: 0.07620015240029805
Band Count: 3
Pixel Type: U8
RasterFunction Infos: {"rasterFunctionInfos": [{
"name": "None",
"description": "",
"help": ""
}]}
Mensuration Capabilities: Basic
Has Histograms: true
Has Colormap: false
Has Multi Dimensions : false
Rendering Rule:
Min Scale: 0
Max Scale: 0
Copyright Text:
Service Data Type: esriImageServiceDataTypeRGB
Min Values: 0, 0, 0
Max Values: 255, 255, 255
Mean Values: 103.85294890363268, 106.09228450994435, 81.4856426234002
Standard Deviation Values: 37.83815673261159, 31.047801659765163, 32.443392665156104
Object ID Field:
Fields:
None
Default Mosaic Method: Center
Allowed Mosaic Methods:
SortField:
SortValue: null
Mosaic Operator: First
Default Compression Quality: 75
Default Resampling Method: Bilinear
Max Record Count: null
Max Image Height: 4100
Max Image Width: 15000
Max Download Image Count: null
Max Mosaic Image Count: null
Allow Raster Function: true
Allow Copy: null
Allow Analysis: null
Allow Compute TiePoints: false
Supports Statistics: false
Supports Advanced Queries: false
Use StandardizedQueries: true
Raster Type Infos:
Name: Raster Dataset
Description: Supports all ArcGIS Raster Datasets
Help:
Has Raster Attribute Table: false
Edit Fields Info: null
Ownership Based AccessControl For Rasters: null
Child Resources:
Info
Histograms
Key Properties
Legend
Raster Function Infos
Supported Operations:
Export Image
Identify
Measure
Compute Histograms
Compute Statistics Histograms
Get Samples
Compute Class Statistics
Query Boundary
Compute Pixel Location
Compute Angles
Validate
Project